BEGIN:VCALENDAR
VERSION:2.0
PRODID:-//Au Poste//Convocations//FR
CALSCALE:GREGORIAN
METHOD:PUBLISH
REFRESH-INTERVAL;VALUE=DURATION:PT1H
X-WR-CALNAME:Au Poste – Convocations
X-WR-CALDESC:Au Poste retourne le réel. Pour défendre les libertés et n
 ourrir le débat public. 100 % libre et LIVE. Sans montage ni formatage.
X-ORIGINAL-URL:https://auposte.media
X-PUBLISHED-TTL:PT1H
BEGIN:VEVENT
DTSTAMP:20260419T233103Z
UID:gid://au-poste/Broadcast/936
DTSTART;TZID=Europe/Paris:20260420T070000
DTEND;TZID=Europe/Paris:20260420T090000
CREATED:20260416T170536Z
DESCRIPTION:Vincent Brengarth\, bien connu de nos services\, avocat de la d
 éputée européenne Rima Hassan sera avec nous dès 7h30 pour détailler 
 les mesures de surveillance extra (ordinaires et judiciaires) déployées 
 contre sa cliente. \n\nA 8h10\, on refait le monde (de l'édition)\, avec 
 Thierry Discepolo\, figure maîtresse de l'édition indépendante (il est 
 à la tête des éditions Agone). Retour sur l’affaire Grasset et ses se
 cousses. \n\nEnfin\, on ira à Carcassonne à 8h40 avec Francine Raymond\,
  présidente de l’association CinéBastide\, association organisatrice d
 u Festival International du Film Politique\, qui a maille à partir avec l
 a municipalité RN.
LAST-MODIFIED:20260416T170536Z
SUMMARY:L’avocat de Rima Hassan + l’affaire Grasset/BolloréGate + Fest
 ival du Film politique
URL;VALUE=URI:https://auposte.media/emissions/l-avocat-de-rima-hassan-l-aff
 aire-grasset-bolloregate-festival-du-film-politique
CATEGORIES:France Déter
X-GUESTS:Francine Raymond\, Thierry Discepolo\, Vincent Brengarth
END:VEVENT
END:VCALENDAR
