BEGIN:VCALENDAR
VERSION:2.0
PRODID:-//Au Poste//Convocations//FR
CALSCALE:GREGORIAN
METHOD:PUBLISH
REFRESH-INTERVAL;VALUE=DURATION:PT1H
X-WR-CALNAME:Au Poste – Convocations
X-WR-CALDESC:Au Poste retourne le réel. Pour défendre les libertés et n
 ourrir le débat public. 100 % libre et LIVE. Sans montage ni formatage.
X-ORIGINAL-URL:https://auposte.media
X-PUBLISHED-TTL:PT1H
BEGIN:VEVENT
DTSTAMP:20260419T232650Z
UID:gid://au-poste/Broadcast/937
DTSTART;TZID=Europe/Paris:20260422T080000
DTEND;TZID=Europe/Paris:20260422T110000
CREATED:20260417T125408Z
DESCRIPTION:Quand un manuel de sabotage publié en 1944 par l’ancêtre de
  la CIA refait surface\, et (nous) (ré)apprend à gripper les rouages ---
  sans exploser de pont\, sans héroïsme\, juste en bâclant le travail\, 
 en sabotant les réunions\, en faisant semblant de ne pas comprendre les c
 onsignes.
LAST-MODIFIED:20260417T125408Z
SUMMARY:Sabotage CIA Mode d’emploi
URL;VALUE=URI:https://auposte.media/emissions/sabotage-cia-mode-d-emploi
CATEGORIES:Au Poste
X-GUESTS:Dominique Pinsolle
END:VEVENT
END:VCALENDAR
